{"text_format":"1","workbook":"xlsx","n_sheets":3,"sheets":["説明","ナンクロ","文字列"],"not_rendered":{"charts":0,"images":4,"macros":1,"external_links":0,"defined_names":4,"comments":0,"pivot_tables":0},"unopened":[],"bounds":{"document_bytes":16777216,"sheet_cells":100000,"rows_first":2000,"rows_last":500,"rows_between":2000,"halvings":0,"cell_chars":16384,"cell_head_chars":4096},"cells_cut":0,"cells_raw":0,"read":"whole","date_system":"1900"}

{"sheet":"説明","index":0,"n_rows":39,"n_cols":3,"rows_kept":39,"cut":false,"hidden":false,"merged":[]}
[]
[]
[]
[null,null,"ナンクロの使い方"]
[]
[null,null,"簡単に使い方を説明しております。"]
[null,null,"どうぞ、みなさま楽しんでください。"]
[]
[null,null,"このファイルには小さなマクロが記入されています。"]
[null,null,"セキュリティで警告が出た場合には「マクロを有効」にしてください。"]
[]
[null,null,"1　この説明を一読のうえ、下の「ナンクロ」タグをクリックしてください。"]
[null,null,"　ナンクロのページが表示します。"]
[null,null,"　この説明のページは最初に表示しますが、２回目以降はナンクロのページが表示します。"]
[null,null,"　説明ページを表示するには下の「説明」タグをクリックしてください。"]
[]
[null,null,"2　下段の★2の「ナンクロ」に問題を入力する"]
[null,null,"　上と下の二つのセルが一組にセットしております。"]
[null,null,"　上側（例：セルＢ12）以降に問題の数字を入力すると、上と下のセルの色が白くなります。"]
[null,null,"　以降順次問題を入力して、問題を完成します。"]
[]
[null,null,"3　問題の回答手順"]
[null,null,"　右上段の★4「検索」欄にて、数字と文字を入力します"]
[null,null,"　上段に検索したい数字を入力すると、"]
[null,null,"　下段の★2「ナンクロ」欄の該当する数字の全てのセルの色が変わりますので、"]
[null,null,"　回答のヒントに役立てることができます。"]
[]
[null,null,"　そして、数字の下段に数字に対する解答を入力します。"]
[null,null,"　すると★1「チェツク表」の該当数字の下に★4「検索」欄に入力した文字が自動で表示し、"]
[null,null,"　★2の「ナンクロ」欄にも検索欄に入力した文字が数字の下に表示、"]
[null,null,"　そして、★5の「問題＆回答」欄にも検索欄に入力した文字が数字の下に表示します。"]
[null,null,"　このようにセルの色が付いたところで縦横のヒントに役立てることができます。"]
[]
[null,null,"4　右上段の★5「問題＆回答」欄"]
[null,null,"　上側に問題の数字が入力してあると、下にその数字の回答が自動的に表示されます。"]
[]
[null,null,"5　右上段の★3「ナンクロのクリアー」ボタン"]
[null,null,"　このボタンを押下するとナンクロ、ヒント及び問題＆回答の欄がクリアーされます。"]
[null,null,"　ナンクロ蘭は全て色が変わります。"]

{"sheet":"ナンクロ","index":1,"n_rows":65,"n_cols":26,"rows_kept":65,"cut":false,"hidden":false,"merged":[[11,0,12,0],[13,0,14,0],[15,0,16,0],[17,0,18,0],[27,0,28,0],[31,0,32,0],[33,0,34,0],[19,0,20,0],[21,0,22,0],[23,0,24,0],[25,0,26,0],[29,0,30,0],[43,0,44,0],[45,0,46,0],[47,0,48,0],[49,0,50,0],[35,0,36,0],[37,0,38,0],[39,0,40,0],[41,0,42,0],[59,0,60,0],[61,0,62,0],[63,0,64,0],[51,0,52,0],[53,0,54,0],[55,0,56,0],[57,0,58,0]]}
[null,"★1　「チェック表」"]
[null,1,2,3,4,5,6,7,8,9,10,11,12,13,14,15,null,"★3　「ナンクロのクリアーボタン」"]
[null,"シ","ン","ネ","オ","メ","デ","ト","ウ","リ","ド"]
[null,16,17,18,19,20,21,22,23,24,25,26,27,28,29,30]
[null,null,null,null,null,null,null,null,null,null,null,null,null,null,null,null,null,"★4　「検索」",null,"★5　「問題&回答」"]
[null,31,32,33,34,35,36,37,38,39,40,41,42,43,44,45,null,null,null,42,43,44,45,46]
[null,null,null,null,null,null,null,null,null,null,null,null,null,null,null,null,null,null,null,{"$f":"IF(T6=\"\",\"\",HLOOKUP(T6,文字,2,FALSE))","v":""},"","","","",""]
[null,46,47,48,49,50,51,52,53,54,55,56,57,58,59,60]
[]
[null,"★2　「ナンクロ」"]
[null,1,2,3,4,5,6,7,8,9,10,11,12,13,14,15,16,17,18,19,20,21,22,23,24,25]
[1,1,46,38,20,36,2,null,9,null,22,18,16,46,null,13,17,28,null,21,37,40,12,12,20,32]
[null,{"$f":"IF(B12=\"\",\"\",HLOOKUP(B12,文字,2,FALSE))","v":"シ"},"","","","","ン","","リ","","","","","","","","","","","","","","","","",""]
[2,41,30,8,null,46,null,4,23,25,2,null,2,null,29,2,7,11,11,null,15,null,8,29,35]
[null,{"$f":"IF(B14=\"\",\"\",HLOOKUP(B14,文字,2,FALSE))","v":""},"","ウ","","","","オ","","","ン","","ン","","","ン","ト","","","","","","ウ","","",""]
[3,null,20,null,20,13,35,27,28,null,38,20,41,20,19,null,15,null,43,20,14,8,null,31,null,4]
[null,{"$f":"IF(B16=\"\",\"\",HLOOKUP(B16,文字,2,FALSE))","v":""},"","","","","","","","","","","","","","","","","","","","ウ","","","","オ"]
[4,4,15,7,25,22,null,10,null,21,23,29,null,19,null,38,20,26,33,22,null,21,15,45,8,6]
[null,{"$f":"IF(B18=\"\",\"\",HLOOKUP(B18,文字,2,FALSE))","v":"オ"},"","ト","","","","ド","","","","","","","","","","","","","","","","","ウ","デ"]
[5,7,8,null,45,null,5,9,15,7,null,6,24,5,1,28,null,null,null,null,null,null,null,40,23,2]
[null,{"$f":"IF(B20=\"\",\"\",HLOOKUP(B20,文字,2,FALSE))","v":"ト"},"ウ","","","","メ","リ","","ト","","デ","","メ","シ","","","","","","","","","","","ン"]
[6,1,null,32,40,8,null,null,null,null,null,null,8,null,41,2,null,null,null,null,null,null,35,null,15]
[null,{"$f":"IF(B22=\"\",\"\",HLOOKUP(B22,文字,2,FALSE))","v":"シ"},"","","","ウ","","","","","","","ウ","","","ン","","","","","","","","","",""]
[7,34,17,7,null,23,null,null,null,null,null,13,35,29,46,null,null,null,null,null,null,null,42,13,16,7]
[null,{"$f":"IF(B24=\"\",\"\",HLOOKUP(B24,文字,2,FALSE))","v":""},"","ト","","","","","","","","","","","","","","","","","","","","","","ト"]
[8,29,10,null,7,17,null,null,null,null,null,42,null,25,2,22,null,null,null,null,null,null,26,31,null,45]
[null,{"$f":"IF(B26=\"\",\"\",HLOOKUP(B26,文字,2,FALSE))","v":""},"ド","","ト","","","","","","","","","","ン","","","","","","","","","","",""]
[9,null,4,44,20,36,null,null,null,null,null,33,13,22,null,46,null,null,null,null,null,null,null,40,41,1]
[null,{"$f":"IF(B28=\"\",\"\",HLOOKUP(B28,文字,2,FALSE))","v":""},"オ","","","","","","","","","","","","","","","","","","","","","","","シ"]
[10,20,9,null,34,null,null,null,null,null,null,41,31,25,22,36,null,34,null,7,1,4,7,16,null,33]
[null,{"$f":"IF(B30=\"\",\"\",HLOOKUP(B30,文字,2,FALSE))","v":""},"リ","","","","","","","","","","","","","","","","","ト","シ","オ","ト","","",""]
[11,19,null,22,3,42,null,null,null,null,null,3,null,15,null,20,32,41,39,null,21,27,1,null,13,43]
[null,{"$f":"IF(B32=\"\",\"\",HLOOKUP(B32,文字,2,FALSE))","v":""},"","","ネ","","","","","","","ネ","","","","","","","","","","","シ","","",""]
[12,26,43,1,null,37,null,8,33,44,46,null,28,28,5,null,10,37,38,22,2,null,30,24,33]
[null,{"$f":"IF(B34=\"\",\"\",HLOOKUP(B34,文字,2,FALSE))","v":""},"","シ","","","","ウ","","","","","","","メ","","ド","","","","ン","","","","",""]
[13,15,8,null,14,13,45,46,null,1,2,3,2,null,4,38,37,null,26,null,28,28,null,19,null,3]
[null,{"$f":"IF(B36=\"\",\"\",HLOOKUP(B36,文字,2,FALSE))","v":""},"ウ","","","","","","","シ","ン","ネ","ン","","オ","","","","","","","","","","","ネ"]
[14,32,2,25,15,7,null,28,28,2,null,4,5,6,7,8,null,32,2,16,null,11,33,5,28,2]
[null,{"$f":"IF(B38=\"\",\"\",HLOOKUP(B38,文字,2,FALSE))","v":""},"ン","","","ト","","","","ン","","オ","メ","デ","ト","ウ","","","ン","","","","","メ","","ン"]
[15,2,null,13,null,9,20,null,42,null,21,2,34,null,22,10,16,19,null,7,33,2,20,null,5,43]
[null,{"$f":"IF(B40=\"\",\"\",HLOOKUP(B40,文字,2,FALSE))","v":"ン"},"","","","リ","","","","","","ン","","","","ド","","","","ト","","ン","","","メ",""]
[16,null,16,31,1,null,34,39,2,31,22,null,22,15,26,null,7,9,10,1,null,25,null,26,33,36]
[null,{"$f":"IF(B42=\"\",\"\",HLOOKUP(B42,文字,2,FALSE))","v":""},"","","シ","","","","ン","","","","","","","","ト","リ","ド","シ","","","","","",""]
[17,4,3,null,27,20,45,null,1,2,20,8,null,15,null,18,null,null,null,null,null,28,24,20,null,30]
[null,{"$f":"IF(B44=\"\",\"\",HLOOKUP(B44,文字,2,FALSE))","v":"オ"},"ネ","","","","","","シ","ン","","ウ","","","","","","","","","","","","","",""]
[18,2,null,21,15,11,40,6,null,36,null,15,40,42,20,1,null,null,null,null,null,null,8,null,16,8]
[null,{"$f":"IF(B46=\"\",\"\",HLOOKUP(B46,文字,2,FALSE))","v":"ン"},"","","","","","デ","","","","","","","","シ","","","","","","","ウ","","","ウ"]
[19,24,20,18,null,null,null,null,null,null,null,13,null,22,36,2,null,null,null,null,null,42,28,24,5]
[null,{"$f":"IF(B48=\"\",\"\",HLOOKUP(B48,文字,2,FALSE))","v":""},"","","","","","","","","","","","","","ン","","","","","","","","","メ",""]
[20,8,null,22,45,null,null,null,null,null,null,39,20,14,null,13,null,null,null,null,null,10,2,null,6,29]
[null,{"$f":"IF(B50=\"\",\"\",HLOOKUP(B50,文字,2,FALSE))","v":"ウ"},"","","","","","","","","","","","","","","","","","","","ド","ン","","デ",""]
[21,1,27,13,20,null,null,null,null,null,null,null,19,8,32,22,null,null,null,null,null,29,null,17,22,17]
[null,{"$f":"IF(B52=\"\",\"\",HLOOKUP(B52,文字,2,FALSE))","v":"シ"},"","","","","","","","","","","","ウ","","","","","","","","","","","",""]
[22,null,28,null,36,null,null,null,null,null,null,28,44,null,41,null,null,null,null,null,null,15,20,39,null,42]
[null,{"$f":"IF(B54=\"\",\"\",HLOOKUP(B54,文字,2,FALSE))","v":""},"","","","","","","","","","","","","","","","","","","","","","","",""]
[23,1,35,25,null,null,null,null,null,null,null,29,15,7,23,17,null,14,2,18,23,null,1,null,42,15]
[null,{"$f":"IF(B56=\"\",\"\",HLOOKUP(B56,文字,2,FALSE))","v":"シ"},"","","","","","","","","","","","ト","","","","","ン","","","","シ","","",""]
[24,42,20,42,24,20,null,45,40,43,13,9,null,19,null,45,30,8,null,8,null,36,27,31,15,7]
[null,{"$f":"IF(B58=\"\",\"\",HLOOKUP(B58,文字,2,FALSE))","v":""},"","","","","","","","","","リ","","","","","","ウ","","ウ","","","","","","ト"]
[25,31,null,22,null,26,22,36,19,null,5,null,45,8,31,45,40,null,27,29,40,42,44,null,4]
[null,{"$f":"IF(B60=\"\",\"\",HLOOKUP(B60,文字,2,FALSE))","v":""},"","","","","","","","","メ","","","ウ","","","","","","","","","","","オ",""]
[26,null,20,22,28,null,4,null,1,25,22,42,15,null,43,null,12,44,25,2,null,25,null,16,41,13]
[null,{"$f":"IF(B62=\"\",\"\",HLOOKUP(B62,文字,2,FALSE))","v":""},"","","","","オ","","シ","","","","","","","","","","","ン","","","","","",""]
[27,4,25,46,9,30,8,9,null,26,31,5,null,38,35,2,42,null,22,null,25,22,36,2,1,28]
[null,{"$f":"IF(B64=\"\",\"\",HLOOKUP(B64,文字,2,FALSE))","v":"オ"},"","","リ","","ウ","リ","","","","メ","","","","ン","","","","","","","","ン","シ",""]

{"sheet":"文字列","index":2,"n_rows":3,"n_cols":61,"rows_kept":3,"cut":false,"hidden":true,"merged":[]}
[]
[null,1,2,3,4,5,6,7,8,9,10,11,12,13,14,15,16,17,18,19,20,21,22,23,24,25,26,27,28,29,30,31,32,33,34,35,36,37,38,39,40,41,42,43,44,45,46,47,48,49,50,51,52,53,54,55,56,57,58,59,60]
[null,{"$f":"IF(ナンクロ!B3=\"\",\"\",ナンクロ!B3)","v":"シ"},{"$f":"IF(ナンクロ!C3=\"\",\"\",ナンクロ!C3)","v":"ン"},{"$f":"IF(ナンクロ!D3=\"\",\"\",ナンクロ!D3)","v":"ネ"},{"$f":"IF(ナンクロ!E3=\"\",\"\",ナンクロ!E3)","v":"オ"},{"$f":"IF(ナンクロ!F3=\"\",\"\",ナンクロ!F3)","v":"メ"},{"$f":"IF(ナンクロ!G3=\"\",\"\",ナンクロ!G3)","v":"デ"},{"$f":"IF(ナンクロ!H3=\"\",\"\",ナンクロ!H3)","v":"ト"},{"$f":"IF(ナンクロ!I3=\"\",\"\",ナンクロ!I3)","v":"ウ"},{"$f":"IF(ナンクロ!J3=\"\",\"\",ナンクロ!J3)","v":"リ"},{"$f":"IF(ナンクロ!K3=\"\",\"\",ナンクロ!K3)","v":"ド"},{"$f":"IF(ナンクロ!L3=\"\",\"\",ナンクロ!L3)","v":""},{"$f":"IF(ナンクロ!M3=\"\",\"\",ナンクロ!M3)","v":""},{"$f":"IF(ナンクロ!N3=\"\",\"\",ナンクロ!N3)","v":""},{"$f":"IF(ナンクロ!O3=\"\",\"\",ナンクロ!O3)","v":""},{"$f":"IF(ナンクロ!P3=\"\",\"\",ナンクロ!P3)","v":""},{"$f":"IF(ナンクロ!B5=\"\",\"\",ナンクロ!B5)","v":""},{"$f":"IF(ナンクロ!C5=\"\",\"\",ナンクロ!C5)","v":""},{"$f":"IF(ナンクロ!D5=\"\",\"\",ナンクロ!D5)","v":""},{"$f":"IF(ナンクロ!E5=\"\",\"\",ナンクロ!E5)","v":""},{"$f":"IF(ナンクロ!F5=\"\",\"\",ナンクロ!F5)","v":""},{"$f":"IF(ナンクロ!G5=\"\",\"\",ナンクロ!G5)","v":""},{"$f":"IF(ナンクロ!H5=\"\",\"\",ナンクロ!H5)","v":""},{"$f":"IF(ナンクロ!I5=\"\",\"\",ナンクロ!I5)","v":""},{"$f":"IF(ナンクロ!J5=\"\",\"\",ナンクロ!J5)","v":""},{"$f":"IF(ナンクロ!K5=\"\",\"\",ナンクロ!K5)","v":""},{"$f":"IF(ナンクロ!L5=\"\",\"\",ナンクロ!L5)","v":""},{"$f":"IF(ナンクロ!M5=\"\",\"\",ナンクロ!M5)","v":""},{"$f":"IF(ナンクロ!N5=\"\",\"\",ナンクロ!N5)","v":""},{"$f":"IF(ナンクロ!O5=\"\",\"\",ナンクロ!O5)","v":""},{"$f":"IF(ナンクロ!P5=\"\",\"\",ナンクロ!P5)","v":""},{"$f":"IF(ナンクロ!B7=\"\",\"\",ナンクロ!B7)","v":""},{"$f":"IF(ナンクロ!C7=\"\",\"\",ナンクロ!C7)","v":""},{"$f":"IF(ナンクロ!D7=\"\",\"\",ナンクロ!D7)","v":""},{"$f":"IF(ナンクロ!E7=\"\",\"\",ナンクロ!E7)","v":""},{"$f":"IF(ナンクロ!F7=\"\",\"\",ナンクロ!F7)","v":""},{"$f":"IF(ナンクロ!G7=\"\",\"\",ナンクロ!G7)","v":""},{"$f":"IF(ナンクロ!H7=\"\",\"\",ナンクロ!H7)","v":""},{"$f":"IF(ナンクロ!I7=\"\",\"\",ナンクロ!I7)","v":""},{"$f":"IF(ナンクロ!J7=\"\",\"\",ナンクロ!J7)","v":""},{"$f":"IF(ナンクロ!K7=\"\",\"\",ナンクロ!K7)","v":""},{"$f":"IF(ナンクロ!L7=\"\",\"\",ナンクロ!L7)","v":""},{"$f":"IF(ナンクロ!M7=\"\",\"\",ナンクロ!M7)","v":""},{"$f":"IF(ナンクロ!N7=\"\",\"\",ナンクロ!N7)","v":""},{"$f":"IF(ナンクロ!O7=\"\",\"\",ナンクロ!O7)","v":""},{"$f":"IF(ナンクロ!P7=\"\",\"\",ナンクロ!P7)","v":""},{"$f":"IF(ナンクロ!B9=\"\",\"\",ナンクロ!B9)","v":""},{"$f":"IF(ナンクロ!C9=\"\",\"\",ナンクロ!C9)","v":""},{"$f":"IF(ナンクロ!D9=\"\",\"\",ナンクロ!D9)","v":""},{"$f":"IF(ナンクロ!E9=\"\",\"\",ナンクロ!E9)","v":""},{"$f":"IF(ナンクロ!F9=\"\",\"\",ナンクロ!F9)","v":""},{"$f":"IF(ナンクロ!G9=\"\",\"\",ナンクロ!G9)","v":""},{"$f":"IF(ナンクロ!H9=\"\",\"\",ナンクロ!H9)","v":""},{"$f":"IF(ナンクロ!I9=\"\",\"\",ナンクロ!I9)","v":""},{"$f":"IF(ナンクロ!J9=\"\",\"\",ナンクロ!J9)","v":""},{"$f":"IF(ナンクロ!K9=\"\",\"\",ナンクロ!K9)","v":""},{"$f":"IF(ナンクロ!L9=\"\",\"\",ナンクロ!L9)","v":""},{"$f":"IF(ナンクロ!M9=\"\",\"\",ナンクロ!M9)","v":""},{"$f":"IF(ナンクロ!N9=\"\",\"\",ナンクロ!N9)","v":""},{"$f":"IF(ナンクロ!O9=\"\",\"\",ナンクロ!O9)","v":""},{"$f":"IF(ナンクロ!P9=\"\",\"\",ナンクロ!P9)","v":""}]